BEGIN:VCALENDAR
VERSION:2.0
PRODID:-//Feldbogner Tübingen 2014 e.V. - ECPv6.15.17.1//NONSGML v1.0//EN
CALSCALE:GREGORIAN
METHOD:PUBLISH
X-WR-CALNAME:Feldbogner Tübingen 2014 e.V.
X-ORIGINAL-URL:https://feldbogner.de
X-WR-CALDESC:Veranstaltungen für Feldbogner Tübingen 2014 e.V.
REFRESH-INTERVAL;VALUE=DURATION:PT1H
X-Robots-Tag:noindex
X-PUBLISHED-TTL:PT1H
BEGIN:VTIMEZONE
TZID:Europe/Berlin
BEGIN:DAYLIGHT
TZOFFSETFROM:+0100
TZOFFSETTO:+0200
TZNAME:CEST
DTSTART:20230326T010000
END:DAYLIGHT
BEGIN:STANDARD
TZOFFSETFROM:+0200
TZOFFSETTO:+0100
TZNAME:CET
DTSTART:20231029T010000
END:STANDARD
BEGIN:DAYLIGHT
TZOFFSETFROM:+0100
TZOFFSETTO:+0200
TZNAME:CEST
DTSTART:20240331T010000
END:DAYLIGHT
BEGIN:STANDARD
TZOFFSETFROM:+0200
TZOFFSETTO:+0100
TZNAME:CET
DTSTART:20241027T010000
END:STANDARD
BEGIN:DAYLIGHT
TZOFFSETFROM:+0100
TZOFFSETTO:+0200
TZNAME:CEST
DTSTART:20250330T010000
END:DAYLIGHT
BEGIN:STANDARD
TZOFFSETFROM:+0200
TZOFFSETTO:+0100
TZNAME:CET
DTSTART:20251026T010000
END:STANDARD
END:VTIMEZONE
BEGIN:VEVENT
DTSTART;TZID=Europe/Berlin:20241103T103000
DTEND;TZID=Europe/Berlin:20241103T123000
DTSTAMP:20260422T173620
CREATED:20240725T162039Z
LAST-MODIFIED:20240725T162039Z
UID:2521-1730629800-1730637000@feldbogner.de
SUMMARY:Vereinstraining
DESCRIPTION:Thema „Roving auf unserem Gelände“
URL:https://feldbogner.de/event/vereinstraining-10/
LOCATION:Bogengelände Wurmlingen\, Wurmlingen\, Deutschland
CATEGORIES:Vereinstraining
ORGANIZER;CN="Feldbogner":MAILTO:kontakt@feldbogner.de
END:VEVENT
BEGIN:VEVENT
DTSTART;TZID=Europe/Berlin:20241106T183000
DTEND;TZID=Europe/Berlin:20241106T210000
DTSTAMP:20260422T173620
CREATED:20231029T065125Z
LAST-MODIFIED:20241013T092522Z
UID:2296-1730917800-1730926800@feldbogner.de
SUMMARY:Mitgliederversammlung
DESCRIPTION:
URL:https://feldbogner.de/event/stammtisch-7/
LOCATION:Kelter Wurmlingen\, Krumme Gasse 19\, Rottenburg am Neckar\, 72108\, Deutschland
ORGANIZER;CN="Feldbogner":MAILTO:kontakt@feldbogner.de
END:VEVENT
BEGIN:VEVENT
DTSTART;TZID=Europe/Berlin:20241123T090000
DTEND;TZID=Europe/Berlin:20241123T170000
DTSTAMP:20260422T173620
CREATED:20231015T123941Z
LAST-MODIFIED:20231015T123941Z
UID:2284-1732352400-1732381200@feldbogner.de
SUMMARY:Arbeitseinsatz
DESCRIPTION:Arbeitseinsatz für Mitglieder des Vereins. Leitung und Informationen durch Platzwartteam Stefan Sieber\, Frank Jetter und Stefan Ott.Reguläre Arbeitseinsätze monatlich zwischen Februar und November.Termine können wetterbedingt oder nach Bedarf entfallen oder ergänzt werden.
URL:https://feldbogner.de/event/arbeitseinsatz-43/
LOCATION:Bogengelände Wurmlingen\, Wurmlingen\, Deutschland
ORGANIZER;CN="Feldbogner":MAILTO:kontakt@feldbogner.de
END:VEVENT
BEGIN:VEVENT
DTSTART;VALUE=DATE:20241130
DTEND;VALUE=DATE:20241202
DTSTAMP:20260422T173620
CREATED:20240305T060158Z
LAST-MODIFIED:20240305T060158Z
UID:2409-1732924800-1733097599@feldbogner.de
SUMMARY:FreiBow
DESCRIPTION:
URL:https://feldbogner.de/event/freibow/
END:VEVENT
END:VCALENDAR