BEGIN:VCALENDAR
VERSION:2.0
PRODID:-//Feldbogner Tübingen 2014 e.V. - ECPv6.15.17.1//NONSGML v1.0//EN
CALSCALE:GREGORIAN
METHOD:PUBLISH
X-ORIGINAL-URL:https://feldbogner.de
X-WR-CALDESC:Veranstaltungen für Feldbogner Tübingen 2014 e.V.
REFRESH-INTERVAL;VALUE=DURATION:PT1H
X-Robots-Tag:noindex
X-PUBLISHED-TTL:PT1H
BEGIN:VTIMEZONE
TZID:Europe/Berlin
BEGIN:DAYLIGHT
TZOFFSETFROM:+0100
TZOFFSETTO:+0200
TZNAME:CEST
DTSTART:20230326T010000
END:DAYLIGHT
BEGIN:STANDARD
TZOFFSETFROM:+0200
TZOFFSETTO:+0100
TZNAME:CET
DTSTART:20231029T010000
END:STANDARD
BEGIN:DAYLIGHT
TZOFFSETFROM:+0100
TZOFFSETTO:+0200
TZNAME:CEST
DTSTART:20240331T010000
END:DAYLIGHT
BEGIN:STANDARD
TZOFFSETFROM:+0200
TZOFFSETTO:+0100
TZNAME:CET
DTSTART:20241027T010000
END:STANDARD
BEGIN:DAYLIGHT
TZOFFSETFROM:+0100
TZOFFSETTO:+0200
TZNAME:CEST
DTSTART:20250330T010000
END:DAYLIGHT
BEGIN:STANDARD
TZOFFSETFROM:+0200
TZOFFSETTO:+0100
TZNAME:CET
DTSTART:20251026T010000
END:STANDARD
END:VTIMEZONE
BEGIN:VEVENT
DTSTART;TZID=Europe/Berlin:20240703T190000
DTEND;TZID=Europe/Berlin:20240703T210000
DTSTAMP:20260422T112557
CREATED:20240109T161032Z
LAST-MODIFIED:20240701T173406Z
UID:2356-1720033200-1720040400@feldbogner.de
SUMMARY:Stammtisch
DESCRIPTION:
URL:https://feldbogner.de/event/stammtisch-10/
LOCATION:Kelter Wurmlingen\, Krumme Gasse 19\, Rottenburg am Neckar\, 72108\, Deutschland
ORGANIZER;CN="Feldbogner":MAILTO:kontakt@feldbogner.de
END:VEVENT
BEGIN:VEVENT
DTSTART;VALUE=DATE:20240713
DTEND;VALUE=DATE:20240714
DTSTAMP:20260422T112557
CREATED:20240216T175438Z
LAST-MODIFIED:20240216T175438Z
UID:2372-1720828800-1720915199@feldbogner.de
SUMMARY:2. Goldvreneli Turnier
DESCRIPTION:
URL:https://feldbogner.de/event/2-goldvreneli-turnier/
END:VEVENT
BEGIN:VEVENT
DTSTART;VALUE=DATE:20240713
DTEND;VALUE=DATE:20240715
DTSTAMP:20260422T112557
CREATED:20240216T174913Z
LAST-MODIFIED:20240216T174913Z
UID:2370-1720828800-1721001599@feldbogner.de
SUMMARY:BHL Qualifikationsturnier
DESCRIPTION:
URL:https://feldbogner.de/event/bhl-qualifikationsturnier/
END:VEVENT
BEGIN:VEVENT
DTSTART;TZID=Europe/Berlin:20240713T100000
DTEND;TZID=Europe/Berlin:20240713T123000
DTSTAMP:20260422T112557
CREATED:20231215T054726Z
LAST-MODIFIED:20240414T160556Z
UID:2327-1720864800-1720873800@feldbogner.de
SUMMARY:Bogenschnuppern
DESCRIPTION:Entsprechende Informationen und weitere Details werden nach der Anmeldung bekannt gegeben.\nAnmeldeschluss eine Woche vor Kursbeginn. \nKosten: 25€ \nDauer: ca. 2.5 Stunden
URL:https://feldbogner.de/event/schnupperkurs-43/
LOCATION:Bogengelände Wurmlingen\, Wurmlingen\, Deutschland
CATEGORIES:Schnupperkurs
ORGANIZER;CN="Feldbogner":MAILTO:kontakt@feldbogner.de
END:VEVENT
BEGIN:VEVENT
DTSTART;TZID=Europe/Berlin:20240714T100000
DTEND;TZID=Europe/Berlin:20240714T130000
DTSTAMP:20260422T112557
CREATED:20231215T054728Z
LAST-MODIFIED:20240414T160616Z
UID:2328-1720951200-1720962000@feldbogner.de
SUMMARY:Parcoursschnuppern
DESCRIPTION:Entsprechende Informationen und weitere Details werden nach der Anmeldung bekannt gegeben.\nAnmeldeschluss eine Woche vor Kursbeginn. \nKosten: 25€ \nDauer: ca. 2.5 Stunden
URL:https://feldbogner.de/event/parcoursschnuppern-2/
LOCATION:Bogengelände Wurmlingen\, Wurmlingen\, Deutschland
CATEGORIES:Schnupperkurs
ORGANIZER;CN="Feldbogner":MAILTO:kontakt@feldbogner.de
END:VEVENT
BEGIN:VEVENT
DTSTART;TZID=Europe/Berlin:20240720T090000
DTEND;TZID=Europe/Berlin:20240720T170000
DTSTAMP:20260422T112557
CREATED:20231015T123926Z
LAST-MODIFIED:20231015T123926Z
UID:2280-1721466000-1721494800@feldbogner.de
SUMMARY:Arbeitseinsatz
DESCRIPTION:Arbeitseinsatz für Mitglieder des Vereins. Leitung und Informationen durch Platzwartteam Stefan Sieber\, Frank Jetter und Stefan Ott.Reguläre Arbeitseinsätze monatlich zwischen Februar und November.Termine können wetterbedingt oder nach Bedarf entfallen oder ergänzt werden.
URL:https://feldbogner.de/event/arbeitseinsatz-39/
LOCATION:Bogengelände Wurmlingen\, Wurmlingen\, Deutschland
ORGANIZER;CN="Feldbogner":MAILTO:kontakt@feldbogner.de
END:VEVENT
BEGIN:VEVENT
DTSTART;VALUE=DATE:20240721
DTEND;VALUE=DATE:20240722
DTSTAMP:20260422T112557
CREATED:20240108T183230Z
LAST-MODIFIED:20240109T075627Z
UID:2352-1721520000-1721606399@feldbogner.de
SUMMARY:10-jähriges Vereinsjubiläum
DESCRIPTION:
URL:https://feldbogner.de/event/10-jaehriges-vereinsjubilaeum/
LOCATION:Bogengelände Wurmlingen\, Wurmlingen\, Deutschland
ORGANIZER;CN="Feldbogner":MAILTO:kontakt@feldbogner.de
END:VEVENT
END:VCALENDAR