BEGIN:VCALENDAR
VERSION:2.0
PRODID:-//Feldbogner Tübingen 2014 e.V. - ECPv6.15.17.1//NONSGML v1.0//EN
CALSCALE:GREGORIAN
METHOD:PUBLISH
X-ORIGINAL-URL:https://feldbogner.de
X-WR-CALDESC:Veranstaltungen für Feldbogner Tübingen 2014 e.V.
REFRESH-INTERVAL;VALUE=DURATION:PT1H
X-Robots-Tag:noindex
X-PUBLISHED-TTL:PT1H
BEGIN:VTIMEZONE
TZID:Europe/Berlin
BEGIN:DAYLIGHT
TZOFFSETFROM:+0100
TZOFFSETTO:+0200
TZNAME:CEST
DTSTART:20230326T010000
END:DAYLIGHT
BEGIN:STANDARD
TZOFFSETFROM:+0200
TZOFFSETTO:+0100
TZNAME:CET
DTSTART:20231029T010000
END:STANDARD
BEGIN:DAYLIGHT
TZOFFSETFROM:+0100
TZOFFSETTO:+0200
TZNAME:CEST
DTSTART:20240331T010000
END:DAYLIGHT
BEGIN:STANDARD
TZOFFSETFROM:+0200
TZOFFSETTO:+0100
TZNAME:CET
DTSTART:20241027T010000
END:STANDARD
BEGIN:DAYLIGHT
TZOFFSETFROM:+0100
TZOFFSETTO:+0200
TZNAME:CEST
DTSTART:20250330T010000
END:DAYLIGHT
BEGIN:STANDARD
TZOFFSETFROM:+0200
TZOFFSETTO:+0100
TZNAME:CET
DTSTART:20251026T010000
END:STANDARD
END:VTIMEZONE
BEGIN:VEVENT
DTSTART;TZID=Europe/Berlin:20240605T190000
DTEND;TZID=Europe/Berlin:20240605T210000
DTSTAMP:20260422T093728
CREATED:20240109T160927Z
LAST-MODIFIED:20240603T092853Z
UID:2354-1717614000-1717621200@feldbogner.de
SUMMARY:Stammtisch
DESCRIPTION:
URL:https://feldbogner.de/event/stammtisch-9/
LOCATION:Kelter Wurmlingen\, Krumme Gasse 19\, Rottenburg am Neckar\, 72108\, Deutschland
ORGANIZER;CN="Feldbogner":MAILTO:kontakt@feldbogner.de
END:VEVENT
BEGIN:VEVENT
DTSTART;VALUE=DATE:20240608
DTEND;VALUE=DATE:20240609
DTSTAMP:20260422T093728
CREATED:20240303T110945Z
LAST-MODIFIED:20240303T110945Z
UID:2407-1717804800-1717891199@feldbogner.de
SUMMARY:38. Jagdschießen
DESCRIPTION:
URL:https://feldbogner.de/event/38-jagdschiessen/
END:VEVENT
BEGIN:VEVENT
DTSTART;TZID=Europe/Berlin:20240608T100000
DTEND;TZID=Europe/Berlin:20240608T123000
DTSTAMP:20260422T093728
CREATED:20231215T054726Z
LAST-MODIFIED:20240414T160650Z
UID:2326-1717840800-1717849800@feldbogner.de
SUMMARY:Bogenschnuppern
DESCRIPTION:Entsprechende Informationen und weitere Details werden nach der Anmeldung bekannt gegeben.\nAnmeldeschluss eine Woche vor Kursbeginn. \nKosten: 25€ \nDauer: ca. 2.5 Stunden
URL:https://feldbogner.de/event/schnupperkurs-42/
LOCATION:Bogengelände Wurmlingen\, Wurmlingen\, Deutschland
CATEGORIES:Schnupperkurs
ORGANIZER;CN="Feldbogner":MAILTO:kontakt@feldbogner.de
END:VEVENT
BEGIN:VEVENT
DTSTART;TZID=Europe/Berlin:20240609T100000
DTEND;TZID=Europe/Berlin:20240609T123000
DTSTAMP:20260422T093728
CREATED:20240520T082917Z
LAST-MODIFIED:20240520T082917Z
UID:2480-1717927200-1717936200@feldbogner.de
SUMMARY:Vereinstraining
DESCRIPTION:Thema „Arrows in Silence. – In Ruhe Bogenschießen“
URL:https://feldbogner.de/event/vereinstraining-7/
LOCATION:Bogengelände Wurmlingen\, Wurmlingen\, Deutschland
CATEGORIES:Vereinstraining
ORGANIZER;CN="Feldbogner":MAILTO:kontakt@feldbogner.de
END:VEVENT
BEGIN:VEVENT
DTSTART;VALUE=DATE:20240615
DTEND;VALUE=DATE:20240616
DTSTAMP:20260422T093728
CREATED:20240306T060347Z
LAST-MODIFIED:20240306T060347Z
UID:2420-1718409600-1718495999@feldbogner.de
SUMMARY:8. traditionelles Wolterdinger 3D-Turnier
DESCRIPTION:
URL:https://feldbogner.de/event/8-traditionelles-wolterdinger-3d-turnier/
END:VEVENT
BEGIN:VEVENT
DTSTART;VALUE=DATE:20240615
DTEND;VALUE=DATE:20240617
DTSTAMP:20260422T093728
CREATED:20240216T180326Z
LAST-MODIFIED:20240216T180326Z
UID:2378-1718409600-1718582399@feldbogner.de
SUMMARY:24. Bogen und Messermachermesse
DESCRIPTION:
URL:https://feldbogner.de/event/24-bogen-und-messermachermesse/
END:VEVENT
BEGIN:VEVENT
DTSTART;TZID=Europe/Berlin:20240615T090000
DTEND;TZID=Europe/Berlin:20240615T170000
DTSTAMP:20260422T093728
CREATED:20231015T123926Z
LAST-MODIFIED:20231015T123926Z
UID:2279-1718442000-1718470800@feldbogner.de
SUMMARY:Arbeitseinsatz
DESCRIPTION:Arbeitseinsatz für Mitglieder des Vereins. Leitung und Informationen durch Platzwartteam Stefan Sieber\, Frank Jetter und Stefan Ott.Reguläre Arbeitseinsätze monatlich zwischen Februar und November.Termine können wetterbedingt oder nach Bedarf entfallen oder ergänzt werden.
URL:https://feldbogner.de/event/arbeitseinsatz-38/
LOCATION:Bogengelände Wurmlingen\, Wurmlingen\, Deutschland
ORGANIZER;CN="Feldbogner":MAILTO:kontakt@feldbogner.de
END:VEVENT
BEGIN:VEVENT
DTSTART;VALUE=DATE:20240622
DTEND;VALUE=DATE:20240624
DTSTAMP:20260422T093728
CREATED:20240110T123712Z
LAST-MODIFIED:20240110T123712Z
UID:2358-1719014400-1719187199@feldbogner.de
SUMMARY:3D-Sonnwendturnier
DESCRIPTION:Sonnwendturnier Einladung 2024
URL:https://feldbogner.de/event/3d-sonnwendturnier/
END:VEVENT
BEGIN:VEVENT
DTSTART;VALUE=DATE:20240629
DTEND;VALUE=DATE:20240701
DTSTAMP:20260422T093728
CREATED:20240216T175728Z
LAST-MODIFIED:20240216T175728Z
UID:2374-1719619200-1719791999@feldbogner.de
SUMMARY:19. Bearpaw Cup
DESCRIPTION:https://drive.google.com/file/d/1WrzjTfSkaLapi0B9Dn2a7IR7IbsQrKwD/view
URL:https://feldbogner.de/event/19-bearpaw-cup/
END:VEVENT
BEGIN:VEVENT
DTSTART;TZID=Europe/Berlin:20240630T100000
DTEND;TZID=Europe/Berlin:20240630T123000
DTSTAMP:20260422T093728
CREATED:20240108T183050Z
LAST-MODIFIED:20240520T082948Z
UID:2350-1719741600-1719750600@feldbogner.de
SUMMARY:Vereinstraining
DESCRIPTION:Thema „Moving Targets: Schießen auf bewegte Ziele“
URL:https://feldbogner.de/event/vereinstraining-6/
LOCATION:Bogengelände Wurmlingen\, Wurmlingen\, Deutschland
CATEGORIES:Vereinstraining
ORGANIZER;CN="Feldbogner":MAILTO:kontakt@feldbogner.de
END:VEVENT
END:VCALENDAR