BEGIN:VCALENDAR
VERSION:2.0
PRODID:-//Feldbogner Tübingen 2014 e.V. - ECPv6.15.17.1//NONSGML v1.0//EN
CALSCALE:GREGORIAN
METHOD:PUBLISH
X-WR-CALNAME:Feldbogner Tübingen 2014 e.V.
X-ORIGINAL-URL:https://feldbogner.de
X-WR-CALDESC:Veranstaltungen für Feldbogner Tübingen 2014 e.V.
REFRESH-INTERVAL;VALUE=DURATION:PT1H
X-Robots-Tag:noindex
X-PUBLISHED-TTL:PT1H
BEGIN:VTIMEZONE
TZID:Europe/Berlin
BEGIN:DAYLIGHT
TZOFFSETFROM:+0100
TZOFFSETTO:+0200
TZNAME:CEST
DTSTART:20230326T010000
END:DAYLIGHT
BEGIN:STANDARD
TZOFFSETFROM:+0200
TZOFFSETTO:+0100
TZNAME:CET
DTSTART:20231029T010000
END:STANDARD
BEGIN:DAYLIGHT
TZOFFSETFROM:+0100
TZOFFSETTO:+0200
TZNAME:CEST
DTSTART:20240331T010000
END:DAYLIGHT
BEGIN:STANDARD
TZOFFSETFROM:+0200
TZOFFSETTO:+0100
TZNAME:CET
DTSTART:20241027T010000
END:STANDARD
BEGIN:DAYLIGHT
TZOFFSETFROM:+0100
TZOFFSETTO:+0200
TZNAME:CEST
DTSTART:20250330T010000
END:DAYLIGHT
BEGIN:STANDARD
TZOFFSETFROM:+0200
TZOFFSETTO:+0100
TZNAME:CET
DTSTART:20251026T010000
END:STANDARD
END:VTIMEZONE
BEGIN:VEVENT
DTSTART;TZID=Europe/Berlin:20240504T090000
DTEND;TZID=Europe/Berlin:20240504T170000
DTSTAMP:20260422T075934
CREATED:20231015T123925Z
LAST-MODIFIED:20231015T123925Z
UID:2277-1714813200-1714842000@feldbogner.de
SUMMARY:Arbeitseinsatz
DESCRIPTION:Arbeitseinsatz für Mitglieder des Vereins. Leitung und Informationen durch Platzwartteam Stefan Sieber\, Frank Jetter und Stefan Ott.Reguläre Arbeitseinsätze monatlich zwischen Februar und November.Termine können wetterbedingt oder nach Bedarf entfallen oder ergänzt werden.
URL:https://feldbogner.de/event/arbeitseinsatz-36/
LOCATION:Bogengelände Wurmlingen\, Wurmlingen\, Deutschland
ORGANIZER;CN="Feldbogner":MAILTO:kontakt@feldbogner.de
END:VEVENT
BEGIN:VEVENT
DTSTART;TZID=Europe/Berlin:20240505T100000
DTEND;TZID=Europe/Berlin:20240505T130000
DTSTAMP:20260422T075934
CREATED:20231215T054726Z
LAST-MODIFIED:20240414T160716Z
UID:2325-1714903200-1714914000@feldbogner.de
SUMMARY:Parcoursschnuppern
DESCRIPTION:Entsprechende Informationen und weitere Details werden nach der Anmeldung bekannt gegeben.\nAnmeldeschluss eine Woche vor Kursbeginn. \nKosten: 25€ \nDauer: ca. 2.5 Stunden
URL:https://feldbogner.de/event/parcoursschnuppern/
LOCATION:Bogengelände Wurmlingen\, Wurmlingen\, Deutschland
CATEGORIES:Schnupperkurs
ORGANIZER;CN="Feldbogner":MAILTO:kontakt@feldbogner.de
END:VEVENT
BEGIN:VEVENT
DTSTART;TZID=Europe/Berlin:20240508T190000
DTEND;TZID=Europe/Berlin:20240508T210000
DTSTAMP:20260422T075934
CREATED:20231029T065125Z
LAST-MODIFIED:20231029T065125Z
UID:2294-1715194800-1715202000@feldbogner.de
SUMMARY:Stammtisch
DESCRIPTION:
URL:https://feldbogner.de/event/stammtisch-5/
LOCATION:Kelter Wurmlingen\, Krumme Gasse 19\, Rottenburg am Neckar\, 72108\, Deutschland
ORGANIZER;CN="Feldbogner":MAILTO:kontakt@feldbogner.de
END:VEVENT
BEGIN:VEVENT
DTSTART;TZID=Europe/Berlin:20240525T090000
DTEND;TZID=Europe/Berlin:20240525T170000
DTSTAMP:20260422T075934
CREATED:20231015T123925Z
LAST-MODIFIED:20231015T123925Z
UID:2278-1716627600-1716656400@feldbogner.de
SUMMARY:Arbeitseinsatz
DESCRIPTION:Arbeitseinsatz für Mitglieder des Vereins. Leitung und Informationen durch Platzwartteam Stefan Sieber\, Frank Jetter und Stefan Ott.Reguläre Arbeitseinsätze monatlich zwischen Februar und November.Termine können wetterbedingt oder nach Bedarf entfallen oder ergänzt werden.
URL:https://feldbogner.de/event/arbeitseinsatz-37/
LOCATION:Bogengelände Wurmlingen\, Wurmlingen\, Deutschland
ORGANIZER;CN="Feldbogner":MAILTO:kontakt@feldbogner.de
END:VEVENT
END:VCALENDAR