BEGIN:VCALENDAR
VERSION:2.0
PRODID:-//Feldbogner Tübingen 2014 e.V. - ECPv6.15.17.1//NONSGML v1.0//EN
CALSCALE:GREGORIAN
METHOD:PUBLISH
X-WR-CALNAME:Feldbogner Tübingen 2014 e.V.
X-ORIGINAL-URL:https://feldbogner.de
X-WR-CALDESC:Veranstaltungen für Feldbogner Tübingen 2014 e.V.
REFRESH-INTERVAL;VALUE=DURATION:PT1H
X-Robots-Tag:noindex
X-PUBLISHED-TTL:PT1H
BEGIN:VTIMEZONE
TZID:Europe/Berlin
BEGIN:DAYLIGHT
TZOFFSETFROM:+0100
TZOFFSETTO:+0200
TZNAME:CEST
DTSTART:20230326T010000
END:DAYLIGHT
BEGIN:STANDARD
TZOFFSETFROM:+0200
TZOFFSETTO:+0100
TZNAME:CET
DTSTART:20231029T010000
END:STANDARD
BEGIN:DAYLIGHT
TZOFFSETFROM:+0100
TZOFFSETTO:+0200
TZNAME:CEST
DTSTART:20240331T010000
END:DAYLIGHT
BEGIN:STANDARD
TZOFFSETFROM:+0200
TZOFFSETTO:+0100
TZNAME:CET
DTSTART:20241027T010000
END:STANDARD
BEGIN:DAYLIGHT
TZOFFSETFROM:+0100
TZOFFSETTO:+0200
TZNAME:CEST
DTSTART:20250330T010000
END:DAYLIGHT
BEGIN:STANDARD
TZOFFSETFROM:+0200
TZOFFSETTO:+0100
TZNAME:CET
DTSTART:20251026T010000
END:STANDARD
END:VTIMEZONE
BEGIN:VEVENT
DTSTART;VALUE=DATE:20240406
DTEND;VALUE=DATE:20240408
DTSTAMP:20260422T061544
CREATED:20240106T113600Z
LAST-MODIFIED:20240106T113600Z
UID:2331-1712361600-1712534399@feldbogner.de
SUMMARY:OX-BoW Bogensport-\, Messermacher- & Outdoor-Messe
DESCRIPTION:
URL:https://feldbogner.de/event/ox-bow-bogensport-messermacher-outdoor-messe/
END:VEVENT
BEGIN:VEVENT
DTSTART;VALUE=DATE:20240407
DTEND;VALUE=DATE:20240408
DTSTAMP:20260422T061544
CREATED:20240216T170100Z
LAST-MODIFIED:20240216T170100Z
UID:2364-1712448000-1712534399@feldbogner.de
SUMMARY:Osterhasen Turnier
DESCRIPTION:
URL:https://feldbogner.de/event/osterhasen-turnier/
LOCATION:Bogengelände Wurmlingen\, Wurmlingen\, Deutschland
ORGANIZER;CN="Feldbogner":MAILTO:kontakt@feldbogner.de
END:VEVENT
BEGIN:VEVENT
DTSTART;TZID=Europe/Berlin:20240410T190000
DTEND;TZID=Europe/Berlin:20240410T220000
DTSTAMP:20260422T061544
CREATED:20231029T065125Z
LAST-MODIFIED:20231029T085639Z
UID:2293-1712775600-1712786400@feldbogner.de
SUMMARY:Stammtisch
DESCRIPTION:
URL:https://feldbogner.de/event/stammtisch-4/
LOCATION:Kelter Wurmlingen\, Krumme Gasse 19\, Rottenburg am Neckar\, 72108\, Deutschland
ORGANIZER;CN="Feldbogner":MAILTO:kontakt@feldbogner.de
END:VEVENT
BEGIN:VEVENT
DTSTART;TZID=Europe/Berlin:20240413T090000
DTEND;TZID=Europe/Berlin:20240413T170000
DTSTAMP:20260422T061544
CREATED:20231015T123925Z
LAST-MODIFIED:20231015T123925Z
UID:2276-1712998800-1713027600@feldbogner.de
SUMMARY:Arbeitseinsatz
DESCRIPTION:Arbeitseinsatz für Mitglieder des Vereins. Leitung und Informationen durch Platzwartteam Stefan Sieber\, Frank Jetter und Stefan Ott.Reguläre Arbeitseinsätze monatlich zwischen Februar und November.Termine können wetterbedingt oder nach Bedarf entfallen oder ergänzt werden.
URL:https://feldbogner.de/event/arbeitseinsatz-35/
LOCATION:Bogengelände Wurmlingen\, Wurmlingen\, Deutschland
ORGANIZER;CN="Feldbogner":MAILTO:kontakt@feldbogner.de
END:VEVENT
BEGIN:VEVENT
DTSTART;TZID=Europe/Berlin:20240414T100000
DTEND;TZID=Europe/Berlin:20240414T123000
DTSTAMP:20260422T061544
CREATED:20240108T182616Z
LAST-MODIFIED:20240108T182616Z
UID:2346-1713088800-1713097800@feldbogner.de
SUMMARY:Vereinstraining
DESCRIPTION:Thema „Ermi􏰁lung meiner Pfeilgeschwindigkeit – Schießen mit Chronograph“
URL:https://feldbogner.de/event/vereinstraining-4/
LOCATION:Bogengelände Wurmlingen\, Wurmlingen\, Deutschland
ORGANIZER;CN="Feldbogner":MAILTO:kontakt@feldbogner.de
END:VEVENT
BEGIN:VEVENT
DTSTART;VALUE=DATE:20240420
DTEND;VALUE=DATE:20240421
DTSTAMP:20260422T061544
CREATED:20231124T183125Z
LAST-MODIFIED:20231124T183125Z
UID:2317-1713571200-1713657599@feldbogner.de
SUMMARY:Nobodies Challenge 2024 - Freizeitheim Altenburg Tennenbronn
DESCRIPTION:Nobodies-Challenge-Flyer-2024
URL:https://feldbogner.de/event/nobodies-challenge-2024-freizeitheim-altenburg-tennenbronn/
END:VEVENT
BEGIN:VEVENT
DTSTART;VALUE=DATE:20240421
DTEND;VALUE=DATE:20240422
DTSTAMP:20260422T061544
CREATED:20240216T174451Z
LAST-MODIFIED:20240216T174451Z
UID:2366-1713657600-1713743999@feldbogner.de
SUMMARY:10. 3D-Turnier in Fichtenberg
DESCRIPTION:Fichtenberg_2024
URL:https://feldbogner.de/event/10-3d-turnier-in-fichtenberg/
END:VEVENT
BEGIN:VEVENT
DTSTART;TZID=Europe/Berlin:20240421T100000
DTEND;TZID=Europe/Berlin:20240421T123000
DTSTAMP:20260422T061544
CREATED:20231215T054726Z
LAST-MODIFIED:20240414T160754Z
UID:2324-1713693600-1713702600@feldbogner.de
SUMMARY:Bogenschnuppern
DESCRIPTION:Entsprechende Informationen und weitere Details werden nach der Anmeldung bekannt gegeben.\nAnmeldeschluss eine Woche vor Kursbeginn. \nKosten: 25€ \nDauer: ca. 2.5 Stunden
URL:https://feldbogner.de/event/schnupperkurs-41/
LOCATION:Bogengelände Wurmlingen\, Wurmlingen\, Deutschland
CATEGORIES:Schnupperkurs
ORGANIZER;CN="Feldbogner":MAILTO:kontakt@feldbogner.de
END:VEVENT
BEGIN:VEVENT
DTSTART;VALUE=DATE:20240427
DTEND;VALUE=DATE:20240429
DTSTAMP:20260422T061544
CREATED:20240216T180018Z
LAST-MODIFIED:20240216T180018Z
UID:2376-1714176000-1714348799@feldbogner.de
SUMMARY:18. Umlachtalturnier
DESCRIPTION:
URL:https://feldbogner.de/event/18-umlachtalturnier/
END:VEVENT
BEGIN:VEVENT
DTSTART;TZID=Europe/Berlin:20240428T100000
DTEND;TZID=Europe/Berlin:20240428T123000
DTSTAMP:20260422T061544
CREATED:20240108T182900Z
LAST-MODIFIED:20240108T182901Z
UID:2348-1714298400-1714307400@feldbogner.de
SUMMARY:Vereinstraining
DESCRIPTION:hema „Verschiedene Zieltechniken beim Bogenschießen“)
URL:https://feldbogner.de/event/vereinstraining-5/
LOCATION:Bogengelände Wurmlingen\, Wurmlingen\, Deutschland
ORGANIZER;CN="Feldbogner":MAILTO:kontakt@feldbogner.de
END:VEVENT
END:VCALENDAR