BEGIN:VCALENDAR
VERSION:2.0
PRODID:-//Feldbogner Tübingen 2014 e.V. - ECPv6.15.17.1//NONSGML v1.0//EN
CALSCALE:GREGORIAN
METHOD:PUBLISH
X-ORIGINAL-URL:https://feldbogner.de
X-WR-CALDESC:Veranstaltungen für Feldbogner Tübingen 2014 e.V.
REFRESH-INTERVAL;VALUE=DURATION:PT1H
X-Robots-Tag:noindex
X-PUBLISHED-TTL:PT1H
BEGIN:VTIMEZONE
TZID:Europe/Berlin
BEGIN:DAYLIGHT
TZOFFSETFROM:+0100
TZOFFSETTO:+0200
TZNAME:CEST
DTSTART:20230326T010000
END:DAYLIGHT
BEGIN:STANDARD
TZOFFSETFROM:+0200
TZOFFSETTO:+0100
TZNAME:CET
DTSTART:20231029T010000
END:STANDARD
BEGIN:DAYLIGHT
TZOFFSETFROM:+0100
TZOFFSETTO:+0200
TZNAME:CEST
DTSTART:20240331T010000
END:DAYLIGHT
BEGIN:STANDARD
TZOFFSETFROM:+0200
TZOFFSETTO:+0100
TZNAME:CET
DTSTART:20241027T010000
END:STANDARD
BEGIN:DAYLIGHT
TZOFFSETFROM:+0100
TZOFFSETTO:+0200
TZNAME:CEST
DTSTART:20250330T010000
END:DAYLIGHT
BEGIN:STANDARD
TZOFFSETFROM:+0200
TZOFFSETTO:+0100
TZNAME:CET
DTSTART:20251026T010000
END:STANDARD
END:VTIMEZONE
BEGIN:VEVENT
DTSTART;TZID=Europe/Berlin:20240103T190000
DTEND;TZID=Europe/Berlin:20240103T210000
DTSTAMP:20260422T011942
CREATED:20231029T065124Z
LAST-MODIFIED:20231029T065124Z
UID:2290-1704308400-1704315600@feldbogner.de
SUMMARY:Stammtisch
DESCRIPTION:
URL:https://feldbogner.de/event/stammtisch/
LOCATION:Kelter Wurmlingen\, Krumme Gasse 19\, Rottenburg am Neckar\, 72108\, Deutschland
ORGANIZER;CN="Feldbogner":MAILTO:kontakt@feldbogner.de
END:VEVENT
BEGIN:VEVENT
DTSTART;VALUE=DATE:20240106
DTEND;VALUE=DATE:20240107
DTSTAMP:20260422T011942
CREATED:20231124T181718Z
LAST-MODIFIED:20231124T181728Z
UID:2306-1704499200-1704585599@feldbogner.de
SUMMARY:Dreikönigsturnier beim Schützenverein Wippingen
DESCRIPTION:3.Altenburger-Frost-Turnier-2023
URL:https://feldbogner.de/event/dreikoenigsturnier-beim-schuetzenverein-wippingen/
END:VEVENT
BEGIN:VEVENT
DTSTART;TZID=Europe/Berlin:20240121T100000
DTEND;TZID=Europe/Berlin:20240121T123000
DTSTAMP:20260422T011942
CREATED:20240108T182223Z
LAST-MODIFIED:20240108T182223Z
UID:2340-1705831200-1705840200@feldbogner.de
SUMMARY:Vereinstraining
DESCRIPTION:Thema „Bogenspiele: Fußball & Co. mit Pfeil und Bogen“
URL:https://feldbogner.de/event/vereinstraining/
LOCATION:Bogengelände Wurmlingen\, Wurmlingen\, Deutschland
ORGANIZER;CN="Feldbogner":MAILTO:kontakt@feldbogner.de
END:VEVENT
END:VCALENDAR