BEGIN:VCALENDAR
VERSION:2.0
PRODID:-//Feldbogner Tübingen 2014 e.V. - ECPv6.15.17.1//NONSGML v1.0//EN
CALSCALE:GREGORIAN
METHOD:PUBLISH
X-WR-CALNAME:Feldbogner Tübingen 2014 e.V.
X-ORIGINAL-URL:https://feldbogner.de
X-WR-CALDESC:Veranstaltungen für Feldbogner Tübingen 2014 e.V.
REFRESH-INTERVAL;VALUE=DURATION:PT1H
X-Robots-Tag:noindex
X-PUBLISHED-TTL:PT1H
BEGIN:VTIMEZONE
TZID:Europe/Berlin
BEGIN:DAYLIGHT
TZOFFSETFROM:+0100
TZOFFSETTO:+0200
TZNAME:CEST
DTSTART:20220327T010000
END:DAYLIGHT
BEGIN:STANDARD
TZOFFSETFROM:+0200
TZOFFSETTO:+0100
TZNAME:CET
DTSTART:20221030T010000
END:STANDARD
BEGIN:DAYLIGHT
TZOFFSETFROM:+0100
TZOFFSETTO:+0200
TZNAME:CEST
DTSTART:20230326T010000
END:DAYLIGHT
BEGIN:STANDARD
TZOFFSETFROM:+0200
TZOFFSETTO:+0100
TZNAME:CET
DTSTART:20231029T010000
END:STANDARD
BEGIN:DAYLIGHT
TZOFFSETFROM:+0100
TZOFFSETTO:+0200
TZNAME:CEST
DTSTART:20240331T010000
END:DAYLIGHT
BEGIN:STANDARD
TZOFFSETFROM:+0200
TZOFFSETTO:+0100
TZNAME:CET
DTSTART:20241027T010000
END:STANDARD
END:VTIMEZONE
BEGIN:VEVENT
DTSTART;TZID=Europe/Berlin:20231104T090000
DTEND;TZID=Europe/Berlin:20231104T170000
DTSTAMP:20260421T221626
CREATED:20221007T145534Z
LAST-MODIFIED:20221007T145534Z
UID:2110-1699088400-1699117200@feldbogner.de
SUMMARY:Arbeitseinsatz
DESCRIPTION:Arbeitseinsatz für Mitglieder des Vereins. Leitung und Informationen durch Platzwarte Stefan Sieber und Stefan Ott.Reguläre Arbeitseinsätze monatlich zwischen Februar und November. Zusätzliche Termine bei Bedarf.
URL:https://feldbogner.de/event/arbeitseinsatz-33/
LOCATION:Bogengelände Wurmlingen\, Wurmlingen\, Deutschland
ORGANIZER;CN="Feldbogner":MAILTO:kontakt@feldbogner.de
END:VEVENT
BEGIN:VEVENT
DTSTART;TZID=Europe/Berlin:20231108T190000
DTEND;TZID=Europe/Berlin:20231108T220000
DTSTAMP:20260421T221626
CREATED:20231015T125527Z
LAST-MODIFIED:20231015T125527Z
UID:2285-1699470000-1699480800@feldbogner.de
SUMMARY:Treffen/Stammtisch Feldbogner
DESCRIPTION:
URL:https://feldbogner.de/event/treffen-stammtisch-feldbogner-7/
LOCATION:Kelter Wurmlingen\, Krumme Gasse 19\, Rottenburg am Neckar\, 72108\, Deutschland
ORGANIZER;CN="Feldbogner":MAILTO:kontakt@feldbogner.de
END:VEVENT
BEGIN:VEVENT
DTSTART;TZID=Europe/Berlin:20231111T130000
DTEND;TZID=Europe/Berlin:20231111T153000
DTSTAMP:20260421T221626
CREATED:20221107T190638Z
LAST-MODIFIED:20221210T094728Z
UID:2136-1699707600-1699716600@feldbogner.de
SUMMARY:Schnupperkurs
DESCRIPTION:Entsprechende Informationen und weitere Details werden nach der Anmeldung bekannt gegeben.Anmeldeschluss eine Woche vor Kursbeginn. \nKosten: 25€  \nDauer: ca. 2.5 Stunden
URL:https://feldbogner.de/event/schnupperkurs-32/
LOCATION:Bogengelände Wurmlingen\, Wurmlingen\, Deutschland
ORGANIZER;CN="Feldbogner":MAILTO:kontakt@feldbogner.de
END:VEVENT
BEGIN:VEVENT
DTSTART;TZID=Europe/Berlin:20231112T100000
DTEND;TZID=Europe/Berlin:20231112T123000
DTSTAMP:20260421T221626
CREATED:20231002T172824Z
LAST-MODIFIED:20231002T172824Z
UID:2265-1699783200-1699792200@feldbogner.de
SUMMARY:Vereinstraining intern
DESCRIPTION:Das nächste Vereinstraining steht an: alle interessierten Mitglieder – egal ob ganz frisch dabei oder schon lange beim Bogenschießen – treffen sich am Sonntag\, 12. November um 10 Uhr auf unserem Gelände.\n \nUnsere Trainer Martin und Alex werden wieder das Programm koordinieren und versprechen eine Mixtur aus intensivem Üben und viel Spaß bei launigen Spielen.\n 
URL:https://feldbogner.de/event/vereinstraining-intern-2/
LOCATION:Bogengelände Wurmlingen\, Wurmlingen\, Deutschland
END:VEVENT
END:VCALENDAR