BEGIN:VCALENDAR
VERSION:2.0
PRODID:-//Feldbogner Tübingen 2014 e.V. - ECPv6.15.17.1//NONSGML v1.0//EN
CALSCALE:GREGORIAN
METHOD:PUBLISH
X-ORIGINAL-URL:https://feldbogner.de
X-WR-CALDESC:Veranstaltungen für Feldbogner Tübingen 2014 e.V.
REFRESH-INTERVAL;VALUE=DURATION:PT1H
X-Robots-Tag:noindex
X-PUBLISHED-TTL:PT1H
BEGIN:VTIMEZONE
TZID:Europe/Berlin
BEGIN:DAYLIGHT
TZOFFSETFROM:+0100
TZOFFSETTO:+0200
TZNAME:CEST
DTSTART:20220327T010000
END:DAYLIGHT
BEGIN:STANDARD
TZOFFSETFROM:+0200
TZOFFSETTO:+0100
TZNAME:CET
DTSTART:20221030T010000
END:STANDARD
BEGIN:DAYLIGHT
TZOFFSETFROM:+0100
TZOFFSETTO:+0200
TZNAME:CEST
DTSTART:20230326T010000
END:DAYLIGHT
BEGIN:STANDARD
TZOFFSETFROM:+0200
TZOFFSETTO:+0100
TZNAME:CET
DTSTART:20231029T010000
END:STANDARD
BEGIN:DAYLIGHT
TZOFFSETFROM:+0100
TZOFFSETTO:+0200
TZNAME:CEST
DTSTART:20240331T010000
END:DAYLIGHT
BEGIN:STANDARD
TZOFFSETFROM:+0200
TZOFFSETTO:+0100
TZNAME:CET
DTSTART:20241027T010000
END:STANDARD
END:VTIMEZONE
BEGIN:VEVENT
DTSTART;TZID=Europe/Berlin:20230702T093000
DTEND;TZID=Europe/Berlin:20230702T120000
DTSTAMP:20260421T155104
CREATED:20230619T182523Z
LAST-MODIFIED:20230619T182523Z
UID:2258-1688290200-1688299200@feldbogner.de
SUMMARY:Vereinstraining intern
DESCRIPTION:Das nächste Vereinstraining steht an: alle interessierten Mitglieder – egal ob ganz frisch dabei oder schon lange beim Bogenschießen – treffen sich am Sonntag\, 2. Juli um 9:30 Uhr auf unserem Gelände.\n(Im Blick auf die derzeit hochsommerlichen Temperaturen haben wir den Beginn etwas früher als sonst gelegt. Ende gegen 12 h geplant.)\n \nUnsere Trainer Martin und Alex werden wieder das Programm koordinieren und versprechen eine Mixtur aus intensivem Üben und viel Spaß bei launigen Spielen.\n \nSonnenschutz und ausreichend Trinken nicht vergessen!
URL:https://feldbogner.de/event/vereinstraining-intern/
LOCATION:Bogengelände Wurmlingen\, Wurmlingen\, Deutschland
ORGANIZER;CN="Feldbogner":MAILTO:kontakt@feldbogner.de
END:VEVENT
BEGIN:VEVENT
DTSTART;TZID=Europe/Berlin:20230708T090000
DTEND;TZID=Europe/Berlin:20230708T170000
DTSTAMP:20260421T155104
CREATED:20221007T145534Z
LAST-MODIFIED:20221007T145534Z
UID:2106-1688806800-1688835600@feldbogner.de
SUMMARY:Arbeitseinsatz
DESCRIPTION:Arbeitseinsatz für Mitglieder des Vereins. Leitung und Informationen durch Platzwarte Stefan Sieber und Stefan Ott.Reguläre Arbeitseinsätze monatlich zwischen Februar und November. Zusätzliche Termine bei Bedarf.
URL:https://feldbogner.de/event/arbeitseinsatz-29/
LOCATION:Bogengelände Wurmlingen\, Wurmlingen\, Deutschland
ORGANIZER;CN="Feldbogner":MAILTO:kontakt@feldbogner.de
END:VEVENT
BEGIN:VEVENT
DTSTART;TZID=Europe/Berlin:20230715T130000
DTEND;TZID=Europe/Berlin:20230715T153000
DTSTAMP:20260421T155104
CREATED:20221107T190656Z
LAST-MODIFIED:20221210T094727Z
UID:2134-1689426000-1689435000@feldbogner.de
SUMMARY:Schnupperkurs
DESCRIPTION:Entsprechende Informationen und weitere Details werden nach der Anmeldung bekannt gegeben.Anmeldeschluss eine Woche vor Kursbeginn. \nKosten: 25€  \nDauer: ca. 2.5 Stunden
URL:https://feldbogner.de/event/schnupperkurs-34/
LOCATION:Bogengelände Wurmlingen\, Wurmlingen\, Deutschland
ORGANIZER;CN="Feldbogner":MAILTO:kontakt@feldbogner.de
END:VEVENT
END:VCALENDAR