BEGIN:VCALENDAR
VERSION:2.0
PRODID:-//Feldbogner Tübingen 2014 e.V. - ECPv6.15.17.1//NONSGML v1.0//EN
CALSCALE:GREGORIAN
METHOD:PUBLISH
X-WR-CALNAME:Feldbogner Tübingen 2014 e.V.
X-ORIGINAL-URL:https://feldbogner.de
X-WR-CALDESC:Veranstaltungen für Feldbogner Tübingen 2014 e.V.
REFRESH-INTERVAL;VALUE=DURATION:PT1H
X-Robots-Tag:noindex
X-PUBLISHED-TTL:PT1H
BEGIN:VTIMEZONE
TZID:Europe/Berlin
BEGIN:DAYLIGHT
TZOFFSETFROM:+0100
TZOFFSETTO:+0200
TZNAME:CEST
DTSTART:20220327T010000
END:DAYLIGHT
BEGIN:STANDARD
TZOFFSETFROM:+0200
TZOFFSETTO:+0100
TZNAME:CET
DTSTART:20221030T010000
END:STANDARD
BEGIN:DAYLIGHT
TZOFFSETFROM:+0100
TZOFFSETTO:+0200
TZNAME:CEST
DTSTART:20230326T010000
END:DAYLIGHT
BEGIN:STANDARD
TZOFFSETFROM:+0200
TZOFFSETTO:+0100
TZNAME:CET
DTSTART:20231029T010000
END:STANDARD
BEGIN:DAYLIGHT
TZOFFSETFROM:+0100
TZOFFSETTO:+0200
TZNAME:CEST
DTSTART:20240331T010000
END:DAYLIGHT
BEGIN:STANDARD
TZOFFSETFROM:+0200
TZOFFSETTO:+0100
TZNAME:CET
DTSTART:20241027T010000
END:STANDARD
END:VTIMEZONE
BEGIN:VEVENT
DTSTART;TZID=Europe/Berlin:20230503T190000
DTEND;TZID=Europe/Berlin:20230503T223000
DTSTAMP:20260421T121702
CREATED:20230424T070914Z
LAST-MODIFIED:20230424T070914Z
UID:2253-1683140400-1683153000@feldbogner.de
SUMMARY:Treffen/Stammtisch Feldbogner
DESCRIPTION:
URL:https://feldbogner.de/event/treffen-stammtisch-feldbogner-5/
LOCATION:Kelter Wurmlingen\, Krumme Gasse 19\, Rottenburg am Neckar\, 72108\, Deutschland
ORGANIZER;CN="Feldbogner":MAILTO:kontakt@feldbogner.de
END:VEVENT
BEGIN:VEVENT
DTSTART;TZID=Europe/Berlin:20230507T100000
DTEND;TZID=Europe/Berlin:20230507T123000
DTSTAMP:20260421T121702
CREATED:20221210T094726Z
LAST-MODIFIED:20221210T094726Z
UID:2154-1683453600-1683462600@feldbogner.de
SUMMARY:Schnupperkurs
DESCRIPTION:Entsprechende Informationen und weitere Details werden nach der Anmeldung bekannt gegeben.Anmeldeschluss eine Woche vor Kursbeginn. \nKosten: 25€  \nDauer: ca. 2.5 Stunden
URL:https://feldbogner.de/event/schnupperkurs-38/
LOCATION:Bogengelände Wurmlingen\, Wurmlingen\, Deutschland
ORGANIZER;CN="Feldbogner":MAILTO:kontakt@feldbogner.de
END:VEVENT
BEGIN:VEVENT
DTSTART;TZID=Europe/Berlin:20230513T090000
DTEND;TZID=Europe/Berlin:20230513T170000
DTSTAMP:20260421T121702
CREATED:20221007T145533Z
LAST-MODIFIED:20221007T145533Z
UID:2104-1683968400-1683997200@feldbogner.de
SUMMARY:Arbeitseinsatz
DESCRIPTION:Arbeitseinsatz für Mitglieder des Vereins. Leitung und Informationen durch Platzwarte Stefan Sieber und Stefan Ott.Reguläre Arbeitseinsätze monatlich zwischen Februar und November. Zusätzliche Termine bei Bedarf.
URL:https://feldbogner.de/event/arbeitseinsatz-27/
LOCATION:Bogengelände Wurmlingen\, Wurmlingen\, Deutschland
ORGANIZER;CN="Feldbogner":MAILTO:kontakt@feldbogner.de
END:VEVENT
END:VCALENDAR